BEGIN:VCALENDAR
VERSION:2.0
PRODID:-//Seaside Heights Volunteer Fire Company - ECPv6.15.20//NONSGML v1.0//EN
CALSCALE:GREGORIAN
METHOD:PUBLISH
X-WR-CALNAME:Seaside Heights Volunteer Fire Company
X-ORIGINAL-URL:https://shfd44.com
X-WR-CALDESC:Events for Seaside Heights Volunteer Fire Company
REFRESH-INTERVAL;VALUE=DURATION:PT1H
X-Robots-Tag:noindex
X-PUBLISHED-TTL:PT1H
BEGIN:VTIMEZONE
TZID:America/New_York
BEGIN:DAYLIGHT
TZOFFSETFROM:-0500
TZOFFSETTO:-0400
TZNAME:EDT
DTSTART:20240310T070000
END:DAYLIGHT
BEGIN:STANDARD
TZOFFSETFROM:-0400
TZOFFSETTO:-0500
TZNAME:EST
DTSTART:20241103T060000
END:STANDARD
BEGIN:DAYLIGHT
TZOFFSETFROM:-0500
TZOFFSETTO:-0400
TZNAME:EDT
DTSTART:20250309T070000
END:DAYLIGHT
BEGIN:STANDARD
TZOFFSETFROM:-0400
TZOFFSETTO:-0500
TZNAME:EST
DTSTART:20251102T060000
END:STANDARD
BEGIN:DAYLIGHT
TZOFFSETFROM:-0500
TZOFFSETTO:-0400
TZNAME:EDT
DTSTART:20260308T070000
END:DAYLIGHT
BEGIN:STANDARD
TZOFFSETFROM:-0400
TZOFFSETTO:-0500
TZNAME:EST
DTSTART:20261101T060000
END:STANDARD
END:VTIMEZONE
BEGIN:VEVENT
DTSTART;TZID=America/New_York:20250222T090000
DTEND;TZID=America/New_York:20250222T170000
DTSTAMP:20260420T125900
CREATED:20250106T213946Z
LAST-MODIFIED:20250106T213946Z
UID:10000002-1740214800-1740243600@shfd44.com
SUMMARY:Polar Bear Plunge
DESCRIPTION:The Polar Bear Plunge at Seaside Heights presented by New Jersey Law Enforcement as part of the year-round fundraising of Law Enforcement Torch Run ® events is a unique opportunity for individuals\, organizations\, and businesses to support Special Olympics New Jersey athletes by jumping into the frigid Atlantic waters during February.  \nPLUNGE SCHEDULE \n9:00 am – Registration Opens \nBlaine Ave Seaside Heights\, NJ 08751 \n12:30 pm – Plungers head to the beach\n(arrive early as it will be crowded) \n1:00 pm – PLUNGE!!! \nPersonal Drones are not permitted on-site on the plunge \nBus and RV parking is on Grant Avenue\, closest to the check-in tents. Spaces are available on a first-come\, first-served basis.  \nACCESSING THE PLUNGE AREA\nThe plunge location is on the beach south of Spicy Cantina and in front of Lucky Leo’s. \nTo enter and exit the plunge area\, single use entrances have been implemented to facilitate the smooth flow of entering and exiting the beach. There are dedicated entrances onto the beach and exits off the beach upon conclusion of the plunge. \nPlungers will enter the beach at Franklin Avenue\, in front of Lucky Leo’s\, and exit at Sumner & Blaine Avenues\, at Spicy Cantina. Click here to access a fully interactive Google Maps layout that provides directions to key areas.   \nThe Family Plunge area is located on the south side of the Plunge zone. Plungers can enter the designated Family Plunge Area at the beach entrance between Lincoln & Dupont Avenues. \nREGISTRATION TIERS\nWe encourage all plungers to register early to avoid the plunge minimum increase and to allow ample time for fundraising. \n“Early” Bear ( $100  minimum):  September – December 31 \n“Now I’m Ready” Bear ( $110  minimum):  January 1 – January 31 \n“Better Late Than Never” Bear ( $120  minimum): February 1 – February 16   \n“Almost Missed It” Bear ( $125  minimum – FLAT RATE): February 17 – February 22
URL:https://shfd44.com/event/polar-bear-plunge/
LOCATION:Beach South of Spicy Cantina & in front of Lucky Leo’s\, 315 Boardwalk\, Seaside Heights\, NJ
CATEGORIES:Community
ATTACH;FMTTYPE=image/png:https://shfd44.com/wp-content/uploads/2025/01/Seaside-Heights-patch_4x3.png
END:VEVENT
END:VCALENDAR